BEGIN:VCALENDAR
VERSION:2.0
PRODID:-//wp-events-plugin.com//7.2.3.1//EN
TZID:Europe/Berlin
X-WR-TIMEZONE:Europe/Berlin
BEGIN:VEVENT
UID:12@buerger-energie-bruchsal.de
DTSTART;TZID=Europe/Berlin:20230726T090000
DTEND;TZID=Europe/Berlin:20230726T103000
DTSTAMP:20230718T191009Z
URL:https://buerger-energie-bruchsal.de/events/energiedialog-bruchsal/
SUMMARY:Energiedialog Bruchsal
DESCRIPTION:Austausch in den Ortsteilen und in der Kernstadt\n\nDie Veranst
 altungen im Rahmen des stadtweiten Energiedialogs laden Bürgerinnen und B
 ürger in regelmäßigen Abständen dazu ein\, sich am Austausch zum Ausba
 u der erneuerbaren Energien in Bruchsal zu beteiligen. Insbesondere die Er
 richtung von Windenergieanlagen ist ein kontrovers diskutiertes Thema\, da
 s einen fairen Dialog mit den Betroffenen erfordert.\n\nZusammen mit den O
 rtsvorstehern aus Obergrombach und Heidelsheim sowie der Ortsvorsteherin a
 us Helmsheim bringt die Stadt den Energiedialog vor Ort. Interessierte Bü
 rgerinnen und Bürger haben am Samstag\, den 22. Juli 2023 in den betroffe
 nen Ortsteilen und am Mittwoch\, den 26. Juli 2023 in der Kernstadt die M
 öglichkeit\, mit Vertreterinnen und Vertretern des Stadtplanungsamtes und
  des Forums Energiedialog ins Gespräch zu kommen. Ziele der Gespräche vo
 r Ort sind:\n\n- Austausch von sachlichen Informationen und Wissen\n- Antw
 orten auf die häufig gestellten Fragen zur Windenergie\n- Austausch über
  mögliche Standorte und Kriterien für Windenergieanlagen in den betroffe
 nen Ortsteilen\n- Sammeln von Ideen und Anregungen aus der Bürgerschaft\n
 \n&nbsp\;
CATEGORIES:Energiedialog
LOCATION:Bruchsal Marktplatz\, Kaiserstraße 66\, Bruchsal\, Baden-Württem
 berg\, 76646\, Deutschland
X-APPLE-STRUCTURED-LOCATION;VALUE=URI;X-ADDRESS=Kaiserstraße 66\, Bruchsal
 \, Baden-Württemberg\, 76646\, Deutschland;X-APPLE-RADIUS=100;X-TITLE=Bru
 chsal Marktplatz:geo:0,0
END:VEVENT
BEGIN:VTIMEZONE
TZID:Europe/Berlin
X-LIC-LOCATION:Europe/Berlin
BEGIN:DAYLIGHT
DTSTART:20230326T030000
TZOFFSETFROM:+0100
TZOFFSETTO:+0200
TZNAME:CEST
END:DAYLIGHT
END:VTIMEZONE
END:VCALENDAR